BEGIN:VCALENDAR
VERSION:2.0
PRODID:-//btv-turnen//btv-turnen.de//DE
CALSCALE:GREGORIAN
BEGIN:VEVENT
DTSTART:20260620T000001Z
DTEND:20260620T235959Z
LOCATION:Turnen/Tanzen/Singen / Überraschungsaufgabe: Eversbuschhalle$1 Eversbuschstraße 124$1 80999 München-Allach
DTSTAMP:20260422T000001Z
SUMMARY:33. Münchner Pokal TGW / KGW
UID:20260422T000001Z-20260620T000001Z-20260620T235959Z
END:VEVENT
END:VCALENDAR