BEGIN:VCALENDAR
VERSION:2.0
PRODID:-//btv-turnen//btv-turnen.de//DE
CALSCALE:GREGORIAN
BEGIN:VEVENT
DTSTART:20260705T000001Z
DTEND:20260705T235959Z
LOCATION:Riegerhofstraße 20$1 80686 München
DTSTAMP:20260422T000001Z
SUMMARY:Gaukinderturnfest 2026
UID:20260422T000001Z-20260705T000001Z-20260705T235959Z
END:VEVENT
END:VCALENDAR