BEGIN:VCALENDAR
VERSION:2.0
PRODID:-//btv-turnen//btv-turnen.de//DE
CALSCALE:GREGORIAN
BEGIN:VEVENT
DTSTART:20240615T000001Z
DTEND:20240615T235959Z
LOCATION:Ebern
DTSTAMP:20260423T000001Z
SUMMARY:Pokalturnen
UID:20260423T000001Z-20240615T000001Z-20240615T235959Z
END:VEVENT
END:VCALENDAR