BEGIN:VCALENDAR
VERSION:2.0
PRODID:-//btv-turnen//btv-turnen.de//DE
CALSCALE:GREGORIAN
BEGIN:VEVENT
DTSTART:20240714T000001Z
DTEND:20240714T235959Z
LOCATION:Bad Tölz
DTSTAMP:20260421T000001Z
SUMMARY:Sommerpokal im Rhönradturnen 2024
UID:20260421T000001Z-20240714T000001Z-20240714T235959Z
END:VEVENT
END:VCALENDAR