BEGIN:VCALENDAR
VERSION:2.0
PRODID:-//btv-turnen//btv-turnen.de//DE
CALSCALE:GREGORIAN
BEGIN:VEVENT
DTSTART:20250504T000001Z
DTEND:20250504T235959Z
LOCATION:Wendelstein
DTSTAMP:20260425T000001Z
SUMMARY:Lehrgang: Senioren- & Gesundheitssport: Fitness all Around
UID:20260425T000001Z-20250504T000001Z-20250504T235959Z
END:VEVENT
END:VCALENDAR