BEGIN:VCALENDAR
VERSION:2.0
PRODID:-//btv-turnen//btv-turnen.de//DE
CALSCALE:GREGORIAN
BEGIN:VEVENT
DTSTART:20261031T000001Z
DTEND:20261122T235959Z
LOCATION:Utting
DTSTAMP:20260422T000001Z
SUMMARY:Aufbaumodul Übungsleiter C Breitensport Allround-Fitness im Turnbezirk Oberbayern / Lehrgangs-Nr. 262107131001 - 96 UE
UID:20260422T000001Z-20261031T000001Z-20261122T235959Z
END:VEVENT
END:VCALENDAR